BEGIN:VCALENDAR
VERSION:2.0
PRODID:icalendar-ruby
CALSCALE:GREGORIAN
METHOD:PUBLISH
BEGIN:VEVENT
DTSTAMP:20260424T104248Z
UID:102-139543@uushenandoah.org
DTSTART:20260516T200000Z
DTEND:20260517T003000Z
CLASS:PUBLIC
CREATED:20260412T091555
DESCRIPTION:The UU Shenandoah 2026 Auction\, where The Price Is (Almost) R
 ight! will be on May 16\, 2026\, from 4:00-8:30 p.m.\nPlease consider do
 nating an item\, service\, event\, or gift certificate to our auction! Cl
 ick here to complete our online donation form. If you participated in our 
 2025 Auction\, you do not need to register again. Visit the auction websi
 te to register as a new participant or update your contact information.\n
 Auction Timeline:\n\nSunday\, March 15 – Donation form available\nSunda
 y\, April 12 – 26: Auction donations accepted at UU Shenandoah\nSunday\
 , May 3 – 16: Silent Auction Bidding is OPEN\nFriday\, May 8 – 16: O
 nline Auction Bidding is OPEN\nSaturday\, May 16: Main Event &amp\; Live 
 Auction! Doors at 4:30pm\, Live Auction at 5:30pm.\n\nLearn more at https
 ://uushenandoah2026.auctria.events
LAST-MODIFIED:20260412T091555
LOCATION:UU Shenandoah
SUMMARY:The Price Is (Almost) Right! 
URL;VALUE=URI:https://www.uushenandoah.org/events/the-price-is-almost-right
 /2026-05-16
ATTACH;FILENAME=Auction26-1.png;FMTTYPE=image/png:https://dq5pwpg1q8ru0.clo
 udfront.net/2026/04/12/13/15/54/2d086c99-a414-4070-86ad-25cce62b6b4c/Aucti
 on26-1.png
END:VEVENT
END:VCALENDAR
