BEGIN:VCALENDAR
VERSION:2.0
PRODID:icalendar-ruby
CALSCALE:GREGORIAN
METHOD:PUBLISH
BEGIN:VEVENT
DTSTAMP:20260426T043827Z
UID:55-141902@uushenandoah.org
DTSTART:20261101T160000Z
DTEND:20261101T170000Z
CLASS:PUBLIC
CREATED:20260425T213918
DESCRIPTION:Sunday Service Info TBA\nNotice: Our worship services are live 
 streamed and recorded. Click here for more information.
LAST-MODIFIED:20260425T213918
LOCATION:UU Shenandoah
SUMMARY:Sunday Service
URL;VALUE=URI:https://www.uushenandoah.org/events/sunday-service--55/2026-1
 1-01
ATTACH;FILENAME=Service-Placeholder.png;FMTTYPE=image/png:https://dq5pwpg1q
 8ru0.cloudfront.net/2026/01/19/18/00/18/b40708a6-5dae-4c6b-9bd4-a05a44bac8
 e3/Service-Placeholder.png
END:VEVENT
END:VCALENDAR
