BEGIN:VCALENDAR
VERSION:2.0
PRODID:icalendar-ruby
CALSCALE:GREGORIAN
METHOD:PUBLISH
BEGIN:VEVENT
DTSTAMP:20260424T103902Z
UID:103-141511@uushenandoah.org
DTSTART:20260503T150000Z
DTEND:20260503T160000Z
CLASS:PUBLIC
CREATED:20260423T174136
DESCRIPTION:Service information TBA.
LAST-MODIFIED:20260423T174136
LOCATION:UU Shenandoah
SUMMARY:Poetry of Hope & Joy
URL;VALUE=URI:https://www.uushenandoah.org/events/poetry-of-hope-joy/2026-0
 5-03
ATTACH;FILENAME=poetry-5.3.2.6.png;FMTTYPE=image/png:https://dq5pwpg1q8ru0.
 cloudfront.net/2026/04/23/21/41/36/f6e6209e-8d63-4f96-8ec7-3470fde4de88/po
 etry-5.3.2.6.png
END:VEVENT
END:VCALENDAR
